BEGIN:VCALENDAR
VERSION:2.0
PRODID:-//Padova Nuoto - ECPv6.7.0//NONSGML v1.0//EN
CALSCALE:GREGORIAN
METHOD:PUBLISH
X-WR-CALNAME:Padova Nuoto
X-ORIGINAL-URL:https://www.padovanuoto.it
X-WR-CALDESC:Eventi per Padova Nuoto
REFRESH-INTERVAL;VALUE=DURATION:PT1H
X-Robots-Tag:noindex
X-PUBLISHED-TTL:PT1H
BEGIN:VTIMEZONE
TZID:Europe/Rome
BEGIN:DAYLIGHT
TZOFFSETFROM:+0100
TZOFFSETTO:+0200
TZNAME:CEST
DTSTART:20250330T010000
END:DAYLIGHT
BEGIN:STANDARD
TZOFFSETFROM:+0200
TZOFFSETTO:+0100
TZNAME:CET
DTSTART:20251026T010000
END:STANDARD
END:VTIMEZONE
BEGIN:VEVENT
DTSTART;TZID=Europe/Rome:20250405T160000
DTEND;TZID=Europe/Rome:20250405T170000
DTSTAMP:20260421T150327
CREATED:20250408T235235Z
LAST-MODIFIED:20250408T235858Z
UID:2906-1743868800-1743872400@www.padovanuoto.it
SUMMARY:Evento Neonati con Maria Elena
DESCRIPTION:
URL:https://www.padovanuoto.it/event/evento-neonati-con-maria-elena/
LOCATION:SEDE CENTRALE\, VIA DECORATI AL VALOR CIVILE 2\, PADOVA\, PADOVA\, 35142
ATTACH;FMTTYPE=image/jpeg:https://www.padovanuoto.it/wp-content/uploads/2025/04/2025-0405-evento-neonati.jpg
ORGANIZER;CN="PADOVANUOTO":MAILTO:info@padovanuoto.it
END:VEVENT
BEGIN:VEVENT
DTSTART;TZID=Europe/Rome:20250412T153000
DTEND;TZID=Europe/Rome:20250412T173000
DTSTAMP:20260421T150327
CREATED:20250409T000312Z
LAST-MODIFIED:20250409T000637Z
UID:2909-1744471800-1744479000@www.padovanuoto.it
SUMMARY:Il battito del cuore delle vibrazioni emozionali con Barbara
DESCRIPTION:
URL:https://www.padovanuoto.it/event/il-battito-del-cuore-delle-vibrazioni-emozionali-con-barbara/
LOCATION:SEDE CENTRALE\, VIA DECORATI AL VALOR CIVILE 2\, PADOVA\, PADOVA\, 35142
ATTACH;FMTTYPE=image/jpeg:https://www.padovanuoto.it/wp-content/uploads/2025/04/2025-0412.jpg
ORGANIZER;CN="PADOVANUOTO":MAILTO:info@padovanuoto.it
END:VEVENT
BEGIN:VEVENT
DTSTART;TZID=Europe/Rome:20250426T160000
DTEND;TZID=Europe/Rome:20250426T173000
DTSTAMP:20260421T150327
CREATED:20250409T000906Z
LAST-MODIFIED:20250409T000906Z
UID:2911-1745683200-1745688600@www.padovanuoto.it
SUMMARY:Postural Sound con Carlo
DESCRIPTION:
URL:https://www.padovanuoto.it/event/postural-sound-con-carlo/
LOCATION:SEDE CENTRALE\, VIA DECORATI AL VALOR CIVILE 2\, PADOVA\, PADOVA\, 35142
ATTACH;FMTTYPE=image/jpeg:https://www.padovanuoto.it/wp-content/uploads/2025/04/2025-0426.jpg
ORGANIZER;CN="PADOVANUOTO":MAILTO:info@padovanuoto.it
END:VEVENT
END:VCALENDAR