BEGIN:VCALENDAR
VERSION:2.0
PRODID:-//Padova Nuoto - ECPv6.7.0//NONSGML v1.0//EN
CALSCALE:GREGORIAN
METHOD:PUBLISH
X-WR-CALNAME:Padova Nuoto
X-ORIGINAL-URL:https://www.padovanuoto.it
X-WR-CALDESC:Eventi per Padova Nuoto
REFRESH-INTERVAL;VALUE=DURATION:PT1H
X-Robots-Tag:noindex
X-PUBLISHED-TTL:PT1H
BEGIN:VTIMEZONE
TZID:Europe/Rome
BEGIN:DAYLIGHT
TZOFFSETFROM:+0100
TZOFFSETTO:+0200
TZNAME:CEST
DTSTART:20240331T010000
END:DAYLIGHT
BEGIN:STANDARD
TZOFFSETFROM:+0200
TZOFFSETTO:+0100
TZNAME:CET
DTSTART:20241027T010000
END:STANDARD
END:VTIMEZONE
BEGIN:VEVENT
DTSTART;TZID=Europe/Rome:20241020T080000
DTEND;TZID=Europe/Rome:20241020T170000
DTSTAMP:20260421T121719
CREATED:20241016T111315Z
LAST-MODIFIED:20241016T111443Z
UID:2618-1729411200-1729443600@www.padovanuoto.it
SUMMARY:SUNDAY FITNESS 2024
DESCRIPTION:Entra nell’energetico mondo dell’Acquafitness con noi!\nVuoi trascorrere una domenica indimenticabile all’insegna del movimento\, del divertimento e del benessere? Allora non puoi perderti le lezioni di Acquafitness che si terranno da domenica 16 giugno\, per tutta l’estate\, dalle 11.00 alle 11.45 (l’attività sarà sospesa in caso di maltempo).\n\nNon serve prenotazione! La lezione è aperta e libera per tutti i clienti presenti in impianto. Porta con te il tuo costume da bagno\, la cuffia\, un sorriso e tanta energia positiva. I nostri insegnanti ti  guideranno attraverso una serie di esercizi che ti faranno sentire ringiovanito/a e carico/a di energia per affrontare la settimana a venire.\n\nVi aspettiamo numerosi!
URL:https://www.padovanuoto.it/event/sunday-fitness-2024/
LOCATION:SEDE CENTRALE\, VIA DECORATI AL VALOR CIVILE 2\, PADOVA\, PADOVA\, 35142
ORGANIZER;CN="PADOVANUOTO":MAILTO:info@padovanuoto.it
END:VEVENT
END:VCALENDAR