BEGIN:VCALENDAR
VERSION:2.0
PRODID:-//Padova Nuoto - ECPv6.7.0//NONSGML v1.0//EN
CALSCALE:GREGORIAN
METHOD:PUBLISH
X-WR-CALNAME:Padova Nuoto
X-ORIGINAL-URL:https://www.padovanuoto.it
X-WR-CALDESC:Eventi per Padova Nuoto
REFRESH-INTERVAL;VALUE=DURATION:PT1H
X-Robots-Tag:noindex
X-PUBLISHED-TTL:PT1H
BEGIN:VTIMEZONE
TZID:Europe/Rome
BEGIN:DAYLIGHT
TZOFFSETFROM:+0100
TZOFFSETTO:+0200
TZNAME:CEST
DTSTART:20250330T010000
END:DAYLIGHT
BEGIN:STANDARD
TZOFFSETFROM:+0200
TZOFFSETTO:+0100
TZNAME:CET
DTSTART:20251026T010000
END:STANDARD
BEGIN:DAYLIGHT
TZOFFSETFROM:+0100
TZOFFSETTO:+0200
TZNAME:CEST
DTSTART:20260329T010000
END:DAYLIGHT
BEGIN:STANDARD
TZOFFSETFROM:+0200
TZOFFSETTO:+0100
TZNAME:CET
DTSTART:20261025T010000
END:STANDARD
END:VTIMEZONE
BEGIN:VEVENT
DTSTART;TZID=Europe/Rome:20251122T160000
DTEND;TZID=Europe/Rome:20251122T170000
DTSTAMP:20260421T063326
CREATED:20251112T152712Z
LAST-MODIFIED:20251112T233447Z
UID:3329-1763827200-1763830800@www.padovanuoto.it
SUMMARY:Water Family
DESCRIPTION: Un’occasione speciale per vivere un momento unico con il tuo bambino! \n Sabato 22 novembre alle ore 16:00\, presso Padova Nuoto (Via Decorati al Valor Civile 2 – Padova)\, ti aspettiamo per una lezione singola di acquaticità neonatale\, pensata per stimolare il legame genitore – bambino e favorire lo sviluppo psicomotorio dei più piccoli in un ambiente sicuro\, accogliente e professionale. \n La lezione è aperta a entrambi i genitori\, per vivere insieme l’emozione del primo contatto con l’acqua. Un’esperienza dolce\, divertente e profondamente educativa. \n Costo della lezione: 25€\n \n\n  Per info e prenotazioni scrivi a: segreteriapadovanuoto@gmail.com \n \n\n Posti limitati – prenotazione obbligatoria! \n \n\n Attività seguita da istruttori specializzati nel nuoto neonatale
URL:https://www.padovanuoto.it/event/water-family-22-novembre-2025/
LOCATION:SEDE CENTRALE\, VIA DECORATI AL VALOR CIVILE 2\, PADOVA\, PADOVA\, 35142
ATTACH;FMTTYPE=image/jpeg:https://www.padovanuoto.it/wp-content/uploads/2025/11/water-family-22-novembre-2025-min.jpg
ORGANIZER;CN="PADOVANUOTO":MAILTO:info@padovanuoto.it
END:VEVENT
BEGIN:VEVENT
DTSTART;TZID=Europe/Rome:20251129T153000
DTEND;TZID=Europe/Rome:20251129T170000
DTSTAMP:20260421T063326
CREATED:20251112T231819Z
LAST-MODIFIED:20251112T232719Z
UID:3337-1764430200-1764435600@www.padovanuoto.it
SUMMARY:Postural Sound
DESCRIPTION:Scopri una nuova dimensione del benessere con le lezioni speciali mensili tenute da Carlo di Postural Sound\, un percorso unico di consapevolezza corporea\, rilassamento e movimento guidato.\n \n Sabato 29 novembre – Ore 15.30 – 17.00 \nContinua il ciclo autunnale con una lezione speciale dedicata al corpo e alla mente. Attraverso esercizi dolci e mirati\, lavoreremo sul respiro\, sulla postura e sul rilascio delle tensioni\, accompagnati da suoni armonici e vibrazioni. \n \n Costo: 22€ \n \n Per info e prenotazioni scrivi a: segreteriapadovanuoto@gmail.com
URL:https://www.padovanuoto.it/event/postural-sound-29-novembre-2025/
LOCATION:SEDE CENTRALE\, VIA DECORATI AL VALOR CIVILE 2\, PADOVA\, PADOVA\, 35142
ATTACH;FMTTYPE=image/jpeg:https://www.padovanuoto.it/wp-content/uploads/2025/11/postural-sound-29-novembre-2025-min.jpg
ORGANIZER;CN="PADOVANUOTO":MAILTO:info@padovanuoto.it
END:VEVENT
BEGIN:VEVENT
DTSTART;TZID=Europe/Rome:20260328T160000
DTEND;TZID=Europe/Rome:20260328T170000
DTSTAMP:20260421T063326
CREATED:20260306T143913Z
LAST-MODIFIED:20260306T144219Z
UID:3443-1774713600-1774717200@www.padovanuoto.it
SUMMARY:Water Family
DESCRIPTION:   Un’occasione speciale per vivere un momento unico con il tuo bambino! \n Sabato 28 marzo alle ore 16:00\, presso Padova Nuoto (Via Decorati al Valor Civile 2 – Padova)\, ti aspettiamo per una lezione singola di acquaticità neonatale\, pensata per stimolare il legame genitore – bambino e favorire lo sviluppo psicomotorio dei più piccoli in un ambiente sicuro\, accogliente e professionale. \n La lezione è aperta a entrambi i genitori\, per vivere insieme l’emozione del primo contatto con l’acqua. Un’esperienza dolce\, divertente e profondamente educativa. \n Costo della lezione: 25€ \n Per info e prenotazioni scrivi a: segreteriapadovanuoto@gmail.com \n Posti limitati – prenotazione obbligatoria!  Attività seguita da istruttori specializzati nel nuoto neonatale
URL:https://www.padovanuoto.it/event/water-family-28-marzo-2026/
LOCATION:SEDE CENTRALE\, VIA DECORATI AL VALOR CIVILE 2\, PADOVA\, PADOVA\, 35142
ATTACH;FMTTYPE=image/jpeg:https://www.padovanuoto.it/wp-content/uploads/2026/03/water-family-marzo-2026-v1.jpg
ORGANIZER;CN="PADOVANUOTO":MAILTO:info@padovanuoto.it
END:VEVENT
BEGIN:VEVENT
DTSTART;TZID=Europe/Rome:20260523T160000
DTEND;TZID=Europe/Rome:20260523T170000
DTSTAMP:20260421T063326
CREATED:20260417T130212Z
LAST-MODIFIED:20260417T130539Z
UID:3521-1779552000-1779555600@www.padovanuoto.it
SUMMARY:Water Family
DESCRIPTION:Un’occasione speciale per vivere un momento unico con il tuo bambino! \n Sabato 23 maggio alle ore 16:00\, presso Padova Nuoto (Via Decorati al Valor Civile 2 – Padova)\, ti aspettiamo per una lezione singola di acquaticità neonatale\, pensata per stimolare il legame genitore – bambino e favorire lo sviluppo psicomotorio dei più piccoli in un ambiente sicuro\, accogliente e professionale. \n La lezione è aperta a entrambi i genitori\, per vivere insieme l’emozione del primo contatto con l’acqua. Un’esperienza dolce\, divertente e profondamente educativa. \n Costo della lezione: 25€ \n Per info e prenotazioni scrivi a: segreteriapadovanuoto@gmail.com \n Posti limitati – prenotazione obbligatoria!  Attività seguita da istruttori specializzati nel nuoto neonatale
URL:https://www.padovanuoto.it/event/water-family-23-maggio-2026/
LOCATION:SEDE CENTRALE\, VIA DECORATI AL VALOR CIVILE 2\, PADOVA\, PADOVA\, 35142
ATTACH;FMTTYPE=image/jpeg:https://www.padovanuoto.it/wp-content/uploads/2026/04/water-family-25-maggio.jpg
ORGANIZER;CN="PADOVANUOTO":MAILTO:info@padovanuoto.it
END:VEVENT
END:VCALENDAR