BEGIN:VCALENDAR
VERSION:2.0
PRODID:-//Padova Nuoto - ECPv6.7.0//NONSGML v1.0//EN
CALSCALE:GREGORIAN
METHOD:PUBLISH
X-WR-CALNAME:Padova Nuoto
X-ORIGINAL-URL:https://www.padovanuoto.it
X-WR-CALDESC:Eventi per Padova Nuoto
REFRESH-INTERVAL;VALUE=DURATION:PT1H
X-Robots-Tag:noindex
X-PUBLISHED-TTL:PT1H
BEGIN:VTIMEZONE
TZID:Europe/Rome
BEGIN:DAYLIGHT
TZOFFSETFROM:+0100
TZOFFSETTO:+0200
TZNAME:CEST
DTSTART:20250330T010000
END:DAYLIGHT
BEGIN:STANDARD
TZOFFSETFROM:+0200
TZOFFSETTO:+0100
TZNAME:CET
DTSTART:20251026T010000
END:STANDARD
END:VTIMEZONE
BEGIN:VEVENT
DTSTART;TZID=Europe/Rome:20251112T200000
DTEND;TZID=Europe/Rome:20251112T220000
DTSTAMP:20260421T045011
CREATED:20251106T173941Z
LAST-MODIFIED:20251106T174815Z
UID:3321-1762977600-1762984800@www.padovanuoto.it
SUMMARY:L’ACQUA CHE CI ABITA
DESCRIPTION:Hai mai pensato che l’acqua nella quale ti immergi per nuotare porta con sé significati più profondi? \n Che la stessa acqua che sostiene il tuo corpo in vasca è un elemento che può nutrire\, depurare\, calmare\, informare\, connettere? \nIn questa serata parleremo dell’acqua non solo come sostanza\, ma come elemento di presenza.Scoprirai come la piscina può essere simbolo di questo: un luogo in cui l’acqua regge\, avvolge e trasforma. \nScopriremo e vivremo l’acqua come nutrimento\, veicolo di informazione e ponte sottile tra corpo ed emozioni\, accompagnati dalla naturopatia e dalla suonoterapia\, attraverso conoscenze condivise ed esperienze sensoriali armoniche \n• C/O Palestra Padovanuoto — h. 20.00–22.00• Posti limitati• € 20\,00• Info e iscrizioni a segreteriapadovanuoto@gmail.com• Gli incontri sono tenuti da Barbara Visentin\, naturopata e suonoterapeuta
URL:https://www.padovanuoto.it/event/l-acqua-che-ci-abita-12-novembre-2025/
LOCATION:SEDE CENTRALE\, VIA DECORATI AL VALOR CIVILE 2\, PADOVA\, PADOVA\, 35142
ATTACH;FMTTYPE=image/jpeg:https://www.padovanuoto.it/wp-content/uploads/2025/11/banner-acqua-che-ci-abita-mobile-good-min.jpg
ORGANIZER;CN="PADOVANUOTO":MAILTO:info@padovanuoto.it
END:VEVENT
END:VCALENDAR