BEGIN:VCALENDAR
VERSION:2.0
PRODID:-//Padova Nuoto - ECPv6.7.0//NONSGML v1.0//EN
CALSCALE:GREGORIAN
METHOD:PUBLISH
X-ORIGINAL-URL:https://www.padovanuoto.it
X-WR-CALDESC:Eventi per Padova Nuoto
REFRESH-INTERVAL;VALUE=DURATION:PT1H
X-Robots-Tag:noindex
X-PUBLISHED-TTL:PT1H
BEGIN:VTIMEZONE
TZID:Europe/Rome
BEGIN:DAYLIGHT
TZOFFSETFROM:+0100
TZOFFSETTO:+0200
TZNAME:CEST
DTSTART:20250330T010000
END:DAYLIGHT
BEGIN:STANDARD
TZOFFSETFROM:+0200
TZOFFSETTO:+0100
TZNAME:CET
DTSTART:20251026T010000
END:STANDARD
END:VTIMEZONE
BEGIN:VEVENT
DTSTART;TZID=Europe/Rome:20251025T153000
DTEND;TZID=Europe/Rome:20251025T170000
DTSTAMP:20260421T064500
CREATED:20251004T000723Z
LAST-MODIFIED:20251004T002257Z
UID:3287-1761406200-1761411600@www.padovanuoto.it
SUMMARY:Postural Sound
DESCRIPTION:Scopri una nuova dimensione del benessere con le lezioni speciali mensili tenute da Carlo di Postural Sound\, un percorso unico di consapevolezza corporea\, rilassamento e movimento guidato. \n \n Sabato 25 ottobre – Ore 15.30 – 17.00 \nContinua il ciclo autunnale con una lezione speciale dedicata al corpo e alla mente. Attraverso esercizi dolci e mirati\, lavoreremo sul respiro\, sulla postura e sul rilascio delle tensioni\, accompagnati da suoni armonici e vibrazioni. \n \n Costo: 22€ \n \n Per info e prenotazioni scrivi a: segreteriapadovanuoto@gmail.com
URL:https://www.padovanuoto.it/event/postural-sound-25-ottobre-2025/
LOCATION:SEDE CENTRALE\, VIA DECORATI AL VALOR CIVILE 2\, PADOVA\, PADOVA\, 35142
ATTACH;FMTTYPE=image/jpeg:https://www.padovanuoto.it/wp-content/uploads/2025/10/postural-sound-page-001-1.jpg
ORGANIZER;CN="PADOVANUOTO":MAILTO:info@padovanuoto.it
END:VEVENT
END:VCALENDAR