BEGIN:VCALENDAR
VERSION:2.0
PRODID:-//Padova Nuoto - ECPv6.7.0//NONSGML v1.0//EN
CALSCALE:GREGORIAN
METHOD:PUBLISH
X-ORIGINAL-URL:https://www.padovanuoto.it
X-WR-CALDESC:Eventi per Padova Nuoto
REFRESH-INTERVAL;VALUE=DURATION:PT1H
X-Robots-Tag:noindex
X-PUBLISHED-TTL:PT1H
BEGIN:VTIMEZONE
TZID:Europe/Rome
BEGIN:DAYLIGHT
TZOFFSETFROM:+0100
TZOFFSETTO:+0200
TZNAME:CEST
DTSTART:20240331T010000
END:DAYLIGHT
BEGIN:STANDARD
TZOFFSETFROM:+0200
TZOFFSETTO:+0100
TZNAME:CET
DTSTART:20241027T010000
END:STANDARD
END:VTIMEZONE
BEGIN:VEVENT
DTSTART;TZID=Europe/Rome:20241127T153000
DTEND;TZID=Europe/Rome:20241127T180000
DTSTAMP:20260421T231257
CREATED:20241016T083402Z
LAST-MODIFIED:20241031T103918Z
UID:2578-1732721400-1732730400@www.padovanuoto.it
SUMMARY:Open Day\, settembre 2024
DESCRIPTION:Vuoi scoprire come migliorare il tuo benessere con le nostre attività in acqua e in palestra?  \n\nNon perdere l’Open Day di Padova Nuoto\n\nsabato 28 settembre\, dalle 16:00 alle 18:30! \n\n\nScopri il nostro centro e prova gratuitamente le nostre attività in piscina e in palestra. \na tutti i partecipanti verrà dato un piccolo omaggio a fine attività. \n\nAttività in acqua: \n\nACQUAMAMY\nACQUAFLAP\nACQUAGAG\nACQUACOMBAT\nFITNESS GYM con attrezzo\n\nAttività in palestra: \n\nPILATES\nTOTAL BODY\nGINNASTICA DOLCE\nFUNCTIONAL TRAINING\nGAG\n\n\nScegli e prenota la tua fascia oraria: \nPiscina: 16:00-17:00 e 17:00-18:00 \nPalestra: 16:00-17:00 e 17:15-18:15 \n Prenotazione obbligatoria entro il 27 settembre via email a segreteriapadovanuoto@gmail.com o direttamente presso la segreteria tecnica della piscina CONI. \n Offerta speciale: Per i nuovi iscritti\, sconto del 10% sul primo mese di frequenza! \n Posti limitati! Non perdere questa occasione – prenota oggi stesso! \nAl termine delle attività sarà offerto un piccolo rinfresco.  \n\nCOSA SERVE: \n\nOCCORRENTE PER LA PISCINA: costume\, cuffia\, ciabatte e accappatoio.\nOCCORRENTE PER LA PALESTRA: scarpe da ginnastica pulite e asciugamano.\n\n\n\n\n\n\n\n 
URL:https://www.padovanuoto.it/event/open-day-settembre-2024/
LOCATION:SEDE CENTRALE\, VIA DECORATI AL VALOR CIVILE 2\, PADOVA\, PADOVA\, 35142
ATTACH;FMTTYPE=image/jpeg:https://www.padovanuoto.it/wp-content/uploads/2024/09/openday-2024-2025-hp-mobile.jpg
ORGANIZER;CN="PADOVANUOTO":MAILTO:info@padovanuoto.it
END:VEVENT
END:VCALENDAR